Package: twilight
Version: 1.80.0
Command: E:\biocbuild\bbs-3.19-bioc\R\bin\R.exe CMD check --no-multiarch --install=check:twilight.install-out.txt --library=E:\biocbuild\bbs-3.19-bioc\R\library --no-vignettes --timings twilight_1.80.0.tar.gz
StartedAt: 2024-10-17 06:45:34 -0400 (Thu, 17 Oct 2024)
EndedAt: 2024-10-17 06:46:16 -0400 (Thu, 17 Oct 2024)
EllapsedTime: 42.1 seconds
RetCode: 0
Status: OK
CheckDir: twilight.Rcheck
Warnings: 0