Package: twilight
Version: 1.80.0
Command: /home/biocbuild/bbs-3.19-bioc/R/bin/R CMD build --keep-empty-dirs --no-resave-data twilight
StartedAt: 2024-10-16 21:15:43 -0400 (Wed, 16 Oct 2024)
EndedAt: 2024-10-16 21:16:56 -0400 (Wed, 16 Oct 2024)
EllapsedTime: 73.1 seconds
RetCode: 0
Status: OK
PackageFile: twilight_1.80.0.tar.gz
PackageFileSize: 944.4 <A href="http://en.wikipedia.org/wiki/KiB" target="_blank">KiB</A>