Package: twilight
Version: 1.80.0
Command: /Library/Frameworks/R.framework/Resources/bin/R CMD INSTALL twilight
StartedAt: 2024-06-09 15:06:01 -0400 (Sun, 09 Jun 2024)
EndedAt: 2024-06-09 15:06:08 -0400 (Sun, 09 Jun 2024)
EllapsedTime: 7.7 seconds
RetCode: 0
Status: OK