Package: tweeDEseq
Version: 1.50.0
Maintainer: Dolors Pelegri-Siso
MaintainerEmail: dolors.pelegri at isglobal.org
git_url: https://git.bioconductor.org/packages/tweeDEseq
git_branch: RELEASE_3_19
git_last_commit: cfa23be
git_last_commit_date: 2024-04-30 10:26:14 -0400 (Tue, 30 Apr 2024)