Package: trio
Version: 3.42.0
Maintainer: Holger Schwender
MaintainerEmail: holger.schw at gmx.de
git_url: https://git.bioconductor.org/packages/trio
git_branch: RELEASE_3_19
git_last_commit: db27cde
git_last_commit_date: 2024-04-30 10:33:00 -0400 (Tue, 30 Apr 2024)