Package: treeclimbR
Version: 1.0.0
Command: /Library/Frameworks/R.framework/Resources/bin/R CMD INSTALL treeclimbR
StartedAt: 2024-06-09 15:43:02 -0400 (Sun, 09 Jun 2024)
EndedAt: 2024-06-09 15:43:49 -0400 (Sun, 09 Jun 2024)
EllapsedTime: 47.1 seconds
RetCode: 0
Status: OK