Package: treeclimbR
Version: 1.0.0
Command: /home/biocbuild/R/R-beta-2024-04-15_r86425/bin/R CMD INSTALL treeclimbR
StartedAt: 2024-05-08 21:05:26 -0000 (Wed, 08 May 2024)
EndedAt: 2024-05-08 21:06:16 -0000 (Wed, 08 May 2024)
EllapsedTime: 49.6 seconds
RetCode: 0
Status: OK