Package: treeclimbR
Version: 1.0.0
Command: /Library/Frameworks/R.framework/Resources/bin/R CMD check --install=check:treeclimbR.install-out.txt --library=/Library/Frameworks/R.framework/Resources/library --no-vignettes --timings treeclimbR_1.0.0.tar.gz
StartedAt: 2024-06-11 08:47:19 -0400 (Tue, 11 Jun 2024)
EndedAt: 2024-06-11 08:57:22 -0400 (Tue, 11 Jun 2024)
EllapsedTime: 603.5 seconds
RetCode: 0
Status: OK
CheckDir: treeclimbR.Rcheck
Warnings: 0