Package: treeclimbR
Version: 1.0.0
Command: rm -rf treeclimbR.buildbin-libdir && mkdir treeclimbR.buildbin-libdir && /Users/biocbuild/BBS/utils/build-universal.sh treeclimbR_1.0.0.tar.gz /Library/Frameworks/R.framework/Resources/bin/R treeclimbR.buildbin-libdir
StartedAt: 2024-06-11 13:36:43 -0400 (Tue, 11 Jun 2024)
EndedAt: 2024-06-11 13:37:56 -0400 (Tue, 11 Jun 2024)
EllapsedTime: 72.9 seconds
RetCode: 0
Status: OK
PackageFile: treeclimbR_1.0.0.tgz
PackageFileSize: 889.9 <A href="http://en.wikipedia.org/wiki/KiB" target="_blank">KiB</A>