Package: tracktables
Version: 1.38.0
Command: /Library/Frameworks/R.framework/Resources/bin/R CMD INSTALL tracktables
StartedAt: 2024-06-09 15:59:44 -0400 (Sun, 09 Jun 2024)
EndedAt: 2024-06-09 16:00:06 -0400 (Sun, 09 Jun 2024)
EllapsedTime: 21.6 seconds
RetCode: 0
Status: OK