Package: tracktables
Version: 1.38.0
Command: /Library/Frameworks/R.framework/Resources/bin/R CMD build --keep-empty-dirs --no-resave-data tracktables
StartedAt: 2024-10-17 10:49:34 -0400 (Thu, 17 Oct 2024)
EndedAt: 2024-10-17 10:50:09 -0400 (Thu, 17 Oct 2024)
EllapsedTime: 34.8 seconds
RetCode: 0
Status: OK
PackageFile: tracktables_1.38.0.tar.gz
PackageFileSize: 355.9 <A href="http://en.wikipedia.org/wiki/KiB" target="_blank">KiB</A>