Package: tracktables
Version: 1.38.0
Command: rm -rf tracktables.buildbin-libdir && mkdir tracktables.buildbin-libdir && /Users/biocbuild/BBS/utils/build-universal.sh tracktables_1.38.0.tar.gz /Library/Frameworks/R.framework/Resources/bin/R tracktables.buildbin-libdir
StartedAt: 2024-10-15 20:40:20 -0400 (Tue, 15 Oct 2024)
EndedAt: 2024-10-15 20:40:40 -0400 (Tue, 15 Oct 2024)
EllapsedTime: 20.4 seconds
RetCode: 0
Status: OK
PackageFile: tracktables_1.38.0.tgz
PackageFileSize: 402.9 <A href="http://en.wikipedia.org/wiki/KiB" target="_blank">KiB</A>