Package: trackViewer
Version: 1.40.0
Command: /Library/Frameworks/R.framework/Resources/bin/R CMD INSTALL trackViewer
StartedAt: 2024-06-09 16:30:31 -0400 (Sun, 09 Jun 2024)
EndedAt: 2024-06-09 16:32:04 -0400 (Sun, 09 Jun 2024)
EllapsedTime: 92.7 seconds
RetCode: 0
Status: OK