Package: trackViewer
Version: 1.40.0
Command: /Library/Frameworks/R.framework/Resources/bin/R CMD build --keep-empty-dirs --no-resave-data trackViewer
StartedAt: 2024-06-10 06:04:33 -0400 (Mon, 10 Jun 2024)
EndedAt: 2024-06-10 06:18:49 -0400 (Mon, 10 Jun 2024)
EllapsedTime: 856.7 seconds
RetCode: 0
Status: OK
PackageFile: trackViewer_1.40.0.tar.gz
PackageFileSize: 12.71 <A href="http://en.wikipedia.org/wiki/MiB" target="_blank">MiB</A>