Package: trackViewer
Version: 1.40.0
Command: /Library/Frameworks/R.framework/Resources/bin/R CMD build --keep-empty-dirs --no-resave-data trackViewer
StartedAt: 2024-10-17 10:49:58 -0400 (Thu, 17 Oct 2024)
EndedAt: 2024-10-17 11:01:56 -0400 (Thu, 17 Oct 2024)
EllapsedTime: 718.9 seconds
RetCode: 0
Status: OK
PackageFile: trackViewer_1.40.0.tar.gz
PackageFileSize: 12.6 <A href="http://en.wikipedia.org/wiki/MiB" target="_blank">MiB</A>