Package: topdownr
Version: 1.26.0
Maintainer: Sebastian Gibb
MaintainerEmail: mail at sebastiangibb.de
git_url: https://git.bioconductor.org/packages/topdownr
git_branch: RELEASE_3_19
git_last_commit: 8b077cb
git_last_commit_date: 2024-04-30 11:01:53 -0400 (Tue, 30 Apr 2024)