Package: topconfects
Version: 1.20.0
Maintainer: Paul Harrison
MaintainerEmail: paul.harrison at monash.edu
git_url: https://git.bioconductor.org/packages/topconfects
git_branch: RELEASE_3_19
git_last_commit: 60fd943
git_last_commit_date: 2024-04-30 11:12:09 -0400 (Tue, 30 Apr 2024)