Package: tigre
Version: 1.58.0
Command: /Library/Frameworks/R.framework/Resources/bin/R CMD INSTALL tigre
StartedAt: 2024-10-16 15:32:59 -0400 (Wed, 16 Oct 2024)
EndedAt: 2024-10-16 15:33:53 -0400 (Wed, 16 Oct 2024)
EllapsedTime: 54.4 seconds
RetCode: 0
Status: OK