Package: tidyCoverage
Version: 1.0.0
Maintainer: Jacques Serizay
MaintainerEmail: jacquesserizay at gmail.com
git_url: https://git.bioconductor.org/packages/tidyCoverage
git_branch: RELEASE_3_19
git_last_commit: c67a165
git_last_commit_date: 2024-04-30 11:53:44 -0400 (Tue, 30 Apr 2024)