Package: target
Version: 1.18.0
Command: /Library/Frameworks/R.framework/Resources/bin/R CMD INSTALL target
StartedAt: 2024-10-16 16:34:27 -0400 (Wed, 16 Oct 2024)
EndedAt: 2024-10-16 16:34:52 -0400 (Wed, 16 Oct 2024)
EllapsedTime: 24.7 seconds
RetCode: 0
Status: OK