Package: target
Version: 1.18.0
Command: /Library/Frameworks/R.framework/Resources/bin/R CMD build --keep-empty-dirs --no-resave-data target
StartedAt: 2024-10-16 23:53:30 -0400 (Wed, 16 Oct 2024)
EndedAt: 2024-10-16 23:55:06 -0400 (Wed, 16 Oct 2024)
EllapsedTime: 96.4 seconds
RetCode: 0
Status: OK
PackageFile: target_1.18.0.tar.gz
PackageFileSize: 3.08 <A href="http://en.wikipedia.org/wiki/MiB" target="_blank">MiB</A>