Package: systemPipeR
Version: 2.10.0
Maintainer: Thomas Girke
MaintainerEmail: thomas.girke at ucr.edu
git_url: https://git.bioconductor.org/packages/systemPipeR
git_branch: RELEASE_3_19
git_last_commit: 4521e19
git_last_commit_date: 2024-04-30 10:38:46 -0400 (Tue, 30 Apr 2024)