Package: syntenet
Version: 1.6.1
Maintainer: Fabrício Almeida-Silva
MaintainerEmail: fabricio_almeidasilva at hotmail.com
git_url: https://git.bioconductor.org/packages/syntenet
git_branch: RELEASE_3_19
git_last_commit: e604a0d
git_last_commit_date: 2024-10-08 05:11:51 -0400 (Tue, 08 Oct 2024)