Package: synlet
Version: 2.4.0
Maintainer: Chunxuan Shao
MaintainerEmail: chunxuan at outlook.com
git_url: https://git.bioconductor.org/packages/synlet
git_branch: RELEASE_3_19
git_last_commit: ff31b8a
git_last_commit_date: 2024-04-30 10:45:07 -0400 (Tue, 30 Apr 2024)