Package: synergyfinder
Version: 3.12.0
Maintainer: Shuyu Zheng
MaintainerEmail: shuyu.zheng at helsinki.fi
git_url: https://git.bioconductor.org/packages/synergyfinder
git_branch: RELEASE_3_19
git_last_commit: fd41763
git_last_commit_date: 2024-04-30 10:53:39 -0400 (Tue, 30 Apr 2024)