Package: synapter
Version: 2.28.0
Maintainer: Laurent Gatto
MaintainerEmail: laurent.gatto at uclouvain.be
git_url: https://git.bioconductor.org/packages/synapter
git_branch: RELEASE_3_19
git_last_commit: d63268e
git_last_commit_date: 2024-04-30 10:28:13 -0400 (Tue, 30 Apr 2024)