Package: switchde
Version: 1.30.0
Maintainer: Kieran Campbell
MaintainerEmail: kieranrcampbell at gmail.com
git_url: https://git.bioconductor.org/packages/switchde
git_branch: RELEASE_3_19
git_last_commit: b293bbf
git_last_commit_date: 2024-04-30 10:52:57 -0400 (Tue, 30 Apr 2024)