Package: switchBox
Version: 1.40.0
Maintainer: Bahman Afsari <bahman@jhu.edu>, Luigi Marchionni
MaintainerEmail: marchion at jhu.edu>, Wikum Dinalankara <wdinala1 at jhmi.edu
git_url: https://git.bioconductor.org/packages/switchBox
git_branch: RELEASE_3_19
git_last_commit: 3b4c1bb
git_last_commit_date: 2024-04-30 10:38:35 -0400 (Tue, 30 Apr 2024)