Package: swfdr Version: 1.30.0 Command: chmod a+r swfdr -R && F:\biocbuild\bbs-3.19-bioc\R\bin\R.exe CMD build --keep-empty-dirs --no-resave-data swfdr StartedAt: 2024-06-26 22:17:44 -0400 (Wed, 26 Jun 2024) EndedAt: 2024-06-26 22:19:06 -0400 (Wed, 26 Jun 2024) EllapsedTime: 81.8 seconds RetCode: 0 Status: OK PackageFile: swfdr_1.30.0.tar.gz PackageFileSize: 1.207 <A href="http://en.wikipedia.org/wiki/MiB" target="_blank">MiB</A>