Package: swfdr
Version: 1.30.0
Command: rm -rf swfdr.buildbin-libdir && mkdir swfdr.buildbin-libdir && F:\biocbuild\bbs-3.19-bioc\R\bin\R.exe CMD INSTALL --build --library=swfdr.buildbin-libdir swfdr_1.30.0.tar.gz
StartedAt: 2024-06-27 09:01:12 -0400 (Thu, 27 Jun 2024)
EndedAt: 2024-06-27 09:01:30 -0400 (Thu, 27 Jun 2024)
EllapsedTime: 17.9 seconds
RetCode: 0
Status: OK
PackageFile: swfdr_1.30.0.zip
PackageFileSize: 1.436 <A href="http://en.wikipedia.org/wiki/MiB" target="_blank">MiB</A>