Package: swfdr
Version: 1.30.0
Command: /home/biocbuild/bbs-3.19-bioc/R/bin/R CMD INSTALL swfdr
StartedAt: 2024-10-16 15:50:58 -0400 (Wed, 16 Oct 2024)
EndedAt: 2024-10-16 15:51:09 -0400 (Wed, 16 Oct 2024)
EllapsedTime: 10.4 seconds
RetCode: 0
Status: OK