Package: swfdr
Version: 1.30.0
Command: /Library/Frameworks/R.framework/Resources/bin/R CMD build --keep-empty-dirs --no-resave-data swfdr
StartedAt: 2024-06-10 05:45:20 -0400 (Mon, 10 Jun 2024)
EndedAt: 2024-06-10 05:46:45 -0400 (Mon, 10 Jun 2024)
EllapsedTime: 85.1 seconds
RetCode: 1
Status: ERROR
PackageFile: None
PackageFileSize: NA