Package: subSeq
Version: 1.34.0
Command: E:\biocbuild\bbs-3.19-bioc\R\bin\R.exe CMD check --no-multiarch --install=check:subSeq.install-out.txt --library=E:\biocbuild\bbs-3.19-bioc\R\library --no-vignettes --timings subSeq_1.34.0.tar.gz
StartedAt: 2024-10-17 06:18:01 -0400 (Thu, 17 Oct 2024)
EndedAt: 2024-10-17 06:21:03 -0400 (Thu, 17 Oct 2024)
EllapsedTime: 182.3 seconds
RetCode: 0
Status: OK
CheckDir: subSeq.Rcheck
Warnings: 0