Package: subSeq
Version: 1.34.0
Command: chmod a+r subSeq -R && E:\biocbuild\bbs-3.19-bioc\R\bin\R.exe CMD build --keep-empty-dirs --no-resave-data subSeq
StartedAt: 2024-10-16 22:14:35 -0400 (Wed, 16 Oct 2024)
EndedAt: 2024-10-16 22:15:24 -0400 (Wed, 16 Oct 2024)
EllapsedTime: 49.2 seconds
RetCode: 0
Status: OK
PackageFile: subSeq_1.34.0.tar.gz
PackageFileSize: 2.91 <A href="http://en.wikipedia.org/wiki/MiB" target="_blank">MiB</A>