Package: subSeq
Version: 1.34.0
Command: rm -rf subSeq.buildbin-libdir && mkdir subSeq.buildbin-libdir && E:\biocbuild\bbs-3.19-bioc\R\bin\R.exe CMD INSTALL --build --library=subSeq.buildbin-libdir subSeq_1.34.0.tar.gz
StartedAt: 2024-10-17 08:44:38 -0400 (Thu, 17 Oct 2024)
EndedAt: 2024-10-17 08:44:52 -0400 (Thu, 17 Oct 2024)
EllapsedTime: 13.4 seconds
RetCode: 0
Status: OK
PackageFile: subSeq_1.34.0.zip
PackageFileSize: 2.943 <A href="http://en.wikipedia.org/wiki/MiB" target="_blank">MiB</A>