Package: subSeq
Version: 1.34.0
Command: /home/biocbuild/R/R-beta-2024-04-15_r86425/bin/R CMD check --install=check:subSeq.install-out.txt --library=/home/biocbuild/R/R-beta-2024-04-15_r86425/site-library --no-vignettes --timings subSeq_1.34.0.tar.gz
StartedAt: 2024-05-08 12:27:30 -0000 (Wed, 08 May 2024)
EndedAt: 2024-05-08 12:30:27 -0000 (Wed, 08 May 2024)
EllapsedTime: 177.3 seconds
RetCode: 0
Status: OK
CheckDir: subSeq.Rcheck
Warnings: 0