Package: subSeq
Version: 1.34.0
Command: /home/biocbuild/R/R-beta-2024-04-15_r86425/bin/R CMD build --keep-empty-dirs --no-resave-data subSeq
StartedAt: 2024-05-09 03:58:10 -0000 (Thu, 09 May 2024)
EndedAt: 2024-05-09 03:59:04 -0000 (Thu, 09 May 2024)
EllapsedTime: 54.1 seconds
RetCode: 0
Status: OK
PackageFile: subSeq_1.34.0.tar.gz
PackageFileSize: 2.901 <A href="http://en.wikipedia.org/wiki/MiB" target="_blank">MiB</A>