Package: subSeq
Version: 1.34.0
Command: /Library/Frameworks/R.framework/Resources/bin/R CMD INSTALL subSeq
StartedAt: 2024-06-09 16:04:20 -0400 (Sun, 09 Jun 2024)
EndedAt: 2024-06-09 16:04:31 -0400 (Sun, 09 Jun 2024)
EllapsedTime: 11.1 seconds
RetCode: 0
Status: OK