Package: subSeq
Version: 1.34.0
Command: rm -rf subSeq.buildbin-libdir && mkdir subSeq.buildbin-libdir && /Users/biocbuild/BBS/utils/build-universal.sh subSeq_1.34.0.tar.gz /Library/Frameworks/R.framework/Resources/bin/R subSeq.buildbin-libdir
StartedAt: 2024-06-11 13:27:24 -0400 (Tue, 11 Jun 2024)
EndedAt: 2024-06-11 13:27:39 -0400 (Tue, 11 Jun 2024)
EllapsedTime: 14.5 seconds
RetCode: 0
Status: OK
PackageFile: subSeq_1.34.0.tgz
PackageFileSize: 2.946 <A href="http://en.wikipedia.org/wiki/MiB" target="_blank">MiB</A>