Package: stageR
Version: 1.26.0
Maintainer: Koen Van den Berge
MaintainerEmail: koen.vdberge at gmail.com
git_url: https://git.bioconductor.org/packages/stageR
git_branch: RELEASE_3_19
git_last_commit: 78f7aa8
git_last_commit_date: 2024-04-30 11:01:56 -0400 (Tue, 30 Apr 2024)