Package: ssPATHS
Version: 1.18.0
Command: /Library/Frameworks/R.framework/Resources/bin/R CMD check --install=check:ssPATHS.install-out.txt --library=/Library/Frameworks/R.framework/Resources/library --no-vignettes --timings ssPATHS_1.18.0.tar.gz
StartedAt: 2024-06-09 23:22:40 -0400 (Sun, 09 Jun 2024)
EndedAt: 2024-06-09 23:25:57 -0400 (Sun, 09 Jun 2024)
EllapsedTime: 197.1 seconds
RetCode: 0
Status: OK
CheckDir: ssPATHS.Rcheck
Warnings: 0