Package: ssPATHS
Version: 1.18.0
Command: /Library/Frameworks/R.framework/Resources/bin/R CMD build --keep-empty-dirs --no-resave-data ssPATHS
StartedAt: 2024-06-09 18:20:44 -0400 (Sun, 09 Jun 2024)
EndedAt: 2024-06-09 18:21:25 -0400 (Sun, 09 Jun 2024)
EllapsedTime: 40.5 seconds
RetCode: 0
Status: OK
PackageFile: ssPATHS_1.18.0.tar.gz
PackageFileSize: 3.672 <A href="http://en.wikipedia.org/wiki/MiB" target="_blank">MiB</A>