Package: ssPATHS
Version: 1.18.0
Command: rm -rf ssPATHS.buildbin-libdir && mkdir ssPATHS.buildbin-libdir && /Users/biocbuild/BBS/utils/build-universal.sh ssPATHS_1.18.0.tar.gz /Library/Frameworks/R.framework/Resources/bin/R ssPATHS.buildbin-libdir
StartedAt: 2024-10-15 20:29:56 -0400 (Tue, 15 Oct 2024)
EndedAt: 2024-10-15 20:30:31 -0400 (Tue, 15 Oct 2024)
EllapsedTime: 35.0 seconds
RetCode: 0
Status: OK
PackageFile: ssPATHS_1.18.0.tgz
PackageFileSize: 3.7 <A href="http://en.wikipedia.org/wiki/MiB" target="_blank">MiB</A>