Package: srnadiff
Version: 1.24.0
Maintainer: Zytnicki Matthias
MaintainerEmail: matthias.zytnicki at inra.fr
git_url: https://git.bioconductor.org/packages/srnadiff
git_branch: RELEASE_3_19
git_last_commit: 12aa125
git_last_commit_date: 2024-04-30 11:03:38 -0400 (Tue, 30 Apr 2024)