Package: splatter
Version: 1.28.0
Maintainer: Luke Zappia
MaintainerEmail: luke at lazappi.id.au
git_url: https://git.bioconductor.org/packages/splatter
git_branch: RELEASE_3_19
git_last_commit: 5e5b43e
git_last_commit_date: 2024-04-30 10:56:03 -0400 (Tue, 30 Apr 2024)