Package: spicyR
Version: 1.16.4
Command: /home/biocbuild/bbs-3.19-bioc/R/bin/R CMD check --install=check:spicyR.install-out.txt --library=/home/biocbuild/bbs-3.19-bioc/R/site-library --timings spicyR_1.16.4.tar.gz
StartedAt: 2024-10-17 05:27:00 -0400 (Thu, 17 Oct 2024)
EndedAt: 2024-10-17 05:34:54 -0400 (Thu, 17 Oct 2024)
EllapsedTime: 474.0 seconds
RetCode: 0
Status: OK
CheckDir: spicyR.Rcheck
Warnings: 0