Package: sparseDOSSA
Version: 1.28.0
Maintainer: Boyu Ren<bor158@mail.harvard.edu>, Emma Schwager
MaintainerEmail: emma.schwager at gmail.com
git_url: https://git.bioconductor.org/packages/sparseDOSSA
git_branch: RELEASE_3_19
git_last_commit: 663c741
git_last_commit_date: 2024-04-30 10:55:26 -0400 (Tue, 30 Apr 2024)