Package: snpStats
Version: 1.54.0
Maintainer: David Clayton
MaintainerEmail: dc208 at cam.ac.uk
git_url: https://git.bioconductor.org/packages/snpStats
git_branch: RELEASE_3_19
git_last_commit: 2bbb682
git_last_commit_date: 2024-04-30 10:17:46 -0400 (Tue, 30 Apr 2024)