Package: skewr
Version: 1.36.0
Maintainer: Ryan Putney
MaintainerEmail: ryanputney at gmail.com
git_url: https://git.bioconductor.org/packages/skewr
git_branch: RELEASE_3_19
git_last_commit: d67fa99
git_last_commit_date: 2024-04-30 10:41:54 -0400 (Tue, 30 Apr 2024)