Package: singleCellTK
Version: 2.14.0
Maintainer: Joshua David Campbell
MaintainerEmail: camp at bu.edu
git_url: https://git.bioconductor.org/packages/singleCellTK
git_branch: RELEASE_3_19
git_last_commit: cd29b84
git_last_commit_date: 2024-04-30 11:06:02 -0400 (Tue, 30 Apr 2024)